BEGIN:VCALENDAR
VERSION:2.0
PRODID:-//The Care Show Ltd - ECPv6.15.20//NONSGML v1.0//EN
CALSCALE:GREGORIAN
METHOD:PUBLISH
X-ORIGINAL-URL:https://thecareshow.co.uk
X-WR-CALDESC:Events for The Care Show Ltd
REFRESH-INTERVAL;VALUE=DURATION:PT1H
X-Robots-Tag:noindex
X-PUBLISHED-TTL:PT1H
BEGIN:VTIMEZONE
TZID:Europe/London
BEGIN:DAYLIGHT
TZOFFSETFROM:+0000
TZOFFSETTO:+0100
TZNAME:BST
DTSTART:20250330T010000
END:DAYLIGHT
BEGIN:STANDARD
TZOFFSETFROM:+0100
TZOFFSETTO:+0000
TZNAME:GMT
DTSTART:20251026T010000
END:STANDARD
BEGIN:DAYLIGHT
TZOFFSETFROM:+0000
TZOFFSETTO:+0100
TZNAME:BST
DTSTART:20260329T010000
END:DAYLIGHT
BEGIN:STANDARD
TZOFFSETFROM:+0100
TZOFFSETTO:+0000
TZNAME:GMT
DTSTART:20261025T010000
END:STANDARD
BEGIN:DAYLIGHT
TZOFFSETFROM:+0000
TZOFFSETTO:+0100
TZNAME:BST
DTSTART:20270328T010000
END:DAYLIGHT
BEGIN:STANDARD
TZOFFSETFROM:+0100
TZOFFSETTO:+0000
TZNAME:GMT
DTSTART:20271031T010000
END:STANDARD
END:VTIMEZONE
BEGIN:VEVENT
DTSTART;TZID=Europe/London:20260507T180000
DTEND;TZID=Europe/London:20260507T203000
DTSTAMP:20260422T131515
CREATED:20260306T172556Z
LAST-MODIFIED:20260414T123425Z
UID:1551-1778176800-1778185800@thecareshow.co.uk
SUMMARY:Care and Share Networking
DESCRIPTION:7 May 2026 | DoubleTree by Hilton Swindon | 6.00pm arrival\, finishes 8.30pm \nIf you want more referrals\, stronger local visibility and a genuinely useful network around your business\, this is your evening. \n \nCare and Share Networking is a friendly\, community-led event hosted by Hannah Edwards and Kevin Griffiths of The Care Show\, bringing people together to connect\, collaborate and grow\, without awkward sales pitches. \nWhat you’ll get from the evening\n\n4 x 10-minute 1-to-1 conversations with other attendees\, so you leave with real leads and meaningful connections\nA room full of people who are there to build relationships and refer business\nA relaxed setting with food included\, plus time for natural networking\n\nWho it’s for\nThis event is ideal for business owners and people who network to promote their company.Everyone is welcome\, whatever your sector\, as long as you’re coming with a positive\, respectful approach to connecting with others. \n\nWhat’s included\n£30 per personIncludes a ploughman’s board. \nSpaces: 60 places only (once they’re gone\, they’re gone). \nWe’ll run a raffle on the night and raise money for Best Mates. You can take part during the event. Tickets are £1 each or a strip for £4. \n\n\nEvening format\nYou can expect a warm welcome and a well-paced evening: \n\nArrive from 6.00pm\nIntroductions\nFood served\nGuest speaker\nStructured networking plus open networking\nRaffle draw (raising money for Best Mates)\nFinish at 8.30pm\n\n\nGuest speaker\nJeff Tucker\, Best Mates\n \nJeff will be joining us to share more about Best Mates\, and we’ll be fundraising for them through our raffle on the night. \n\nVenue and access\nDoubleTree by Hilton Swindon (in person) \n\nStep-free access into the building and the room\nParking available on site\n\n\nBook now\nWith just 60 places available\, we recommend booking early. \nQuestions? Email info@thecareshowswindon.co.uk \n\nFAQs\nWhat time should I arrive?Arrival is from 6.00pm\, with the evening finishing at 8.30pm. \nDo I need to be in health or social care to attend?No. Everyone is welcome. This is open networking for people who want to build connections and grow their business. \nIs food included?Yes\, your ticket includes a ploughman’s board. \nIs it structured or open networking?Both. The evening includes introductions\, time to meet people naturally\, and 4 x 10-minute 1-to-1s so you get real value from attending. \nHow does the raffle work?We’ll run a raffle on the night and raise money for Best Mates. You can take part during the event.
URL:https://thecareshow.co.uk/event/care-and-share-networking/
LOCATION:Doubletree by Hilton\, Lydiard Fields\, Swindon\, SN5 8ZU\, United Kingdom
CATEGORIES:Networking
ATTACH;FMTTYPE=image/jpeg:https://thecareshow.co.uk/wp-content/uploads/2026/03/Jeff-T.jpg
ORGANIZER;CN="The Care Show":MAILTO:info@thecareshowswindon.co.uk
END:VEVENT
END:VCALENDAR